BEGIN:VCALENDAR
VERSION:2.0
PRODID:SchoolNow
CALSCALE:GREGORIAN
BEGIN:VEVENT
UID:d894e5dc-1f87-11f0-a9ea-0a58a9feac02
DTSTAMP:20250422T144116Z
SUMMARY:CDD Board Meeting - October 2024
LOCATION:SpringHill Suites by Marriott Tampa Suncoast Parkway located at 16
 615 Crosspointe Run\, Land 0' Lakes\, FL 34638
URL;VALUE=URI:https://www.westhillcrestcdd.com/calendar/7983507/cdd-board-m
 eeting-october-2024
DTSTART:20241015T144500Z
DTEND:20241015T154500Z
ATTACH;FILENAME=2024-10-15 FY 2025- West Hillcrest - Agenda.pdf;FMTTYPE=app
 lication/pdf:https://campussuite-storage.s3.amazonaws.com/prod/1559264/f56
 d034e-1b07-11f0-aff0-0a58a9feac02/2943110/90114bf2-1f73-11f0-af9c-0affc15f
 8047/file/2024-10-15 FY 2025- West Hillcrest - Agenda.pdf
ATTACH;FILENAME=2024-10-15 FY 2025- West Hillcrest - Meeting Book.pdf;FMTTY
 PE=application/pdf:https://campussuite-storage.s3.amazonaws.com/prod/15592
 64/f56d034e-1b07-11f0-aff0-0a58a9feac02/2943222/64c71d78-1f87-11f0-a902-0e
 d256800e21/file/2024-10-15 FY 2025- West Hillcrest - Meeting Book.pdf
END:VEVENT
END:VCALENDAR
