BEGIN:VCALENDAR
VERSION:2.0
PRODID:SchoolNow
CALSCALE:GREGORIAN
BEGIN:VEVENT
UID:3bcbcf16-1f89-11f0-ae7d-0a58a9feac02
DTSTAMP:20250422T145112Z
SUMMARY:CDD Board Meeting - September 2024
LOCATION:SpringHill Suites by Marriott Tampa Suncoast Parkway located at 16
 615 Crosspointe Run\, Land 0' Lakes\, FL 34638
URL;VALUE=URI:https://www.westhillcrestcdd.com/calendar/7983521/cdd-board-m
 eeting-september-2024
DTSTART:20240917T144500Z
DTEND:20240917T154500Z
ATTACH;FILENAME=2024-09-17 FY 2024- West Hillcrest - Agenda.pdf;FMTTYPE=app
 lication/pdf:https://campussuite-storage.s3.amazonaws.com/prod/1559264/f56
 d034e-1b07-11f0-aff0-0a58a9feac02/2943100/7bece51e-1f73-11f0-9d24-0affc15f
 8047/file/2024-09-17 FY 2024- West Hillcrest - Agenda.pdf
ATTACH;FILENAME=2024-09-17 FY 2024- West Hillcrest - Meeting Book.pdf;FMTTY
 PE=application/pdf:https://campussuite-storage.s3.amazonaws.com/prod/15592
 64/f56d034e-1b07-11f0-aff0-0a58a9feac02/2943221/4e15e24e-1f87-11f0-b261-0e
 8b839452af/file/2024-09-17 FY 2024- West Hillcrest - Meeting Book.pdf
END:VEVENT
END:VCALENDAR
