BEGIN:VCALENDAR
VERSION:2.0
PRODID:SchoolNow
CALSCALE:GREGORIAN
BEGIN:VEVENT
UID:66279e84-1f89-11f0-af32-0a58a9feac02
DTSTAMP:20250422T145223Z
SUMMARY:CDD Board Meeting - August 2024
LOCATION:SpringHill Suites by Marriott Tampa Suncoast Parkway located at 16
 615 Crosspointe Run\, Land 0' Lakes\, FL 34638
URL;VALUE=URI:https://www.westhillcrestcdd.com/calendar/7983522/cdd-board-m
 eeting-august-2024
DTSTART:20240820T144500Z
DTEND:20240820T154500Z
ATTACH;FILENAME=2024-08-20 FY 2024- West Hillcrest - Agenda.pdf;FMTTYPE=app
 lication/pdf:https://campussuite-storage.s3.amazonaws.com/prod/1559264/f56
 d034e-1b07-11f0-aff0-0a58a9feac02/2943101/7bed31a4-1f73-11f0-8d34-0affc15f
 8047/file/2024-08-20 FY 2024- West Hillcrest - Agenda.pdf
ATTACH;FILENAME=2024-08-20 FY 2024- West Hillcrest - Meeting Book.pdf;FMTTY
 PE=application/pdf:https://campussuite-storage.s3.amazonaws.com/prod/15592
 64/f56d034e-1b07-11f0-aff0-0a58a9feac02/2943220/4e15e104-1f87-11f0-aed3-0e
 8b839452af/file/2024-08-20 FY 2024- West Hillcrest - Meeting Book.pdf
END:VEVENT
END:VCALENDAR
