BEGIN:VCALENDAR
VERSION:2.0
PRODID:SchoolNow
CALSCALE:GREGORIAN
BEGIN:VEVENT
UID:9d4a0974-1f89-11f0-aefe-0a58a9feac02
DTSTAMP:20250422T145355Z
SUMMARY:CDD Board Meeting - May 2024
LOCATION:SpringHill Suites by Marriott Tampa Suncoast Parkway located at 16
 615 Crosspointe Run\, Land 0' Lakes\, FL 34638
URL;VALUE=URI:https://www.westhillcrestcdd.com/calendar/7983523/cdd-board-m
 eeting-may-2024
DTSTART:20240521T144500Z
DTEND:20240521T154500Z
ATTACH;FILENAME=2024-05-21 FY 2024- West Hillcrest - Agenda.pdf;FMTTYPE=app
 lication/pdf:https://campussuite-storage.s3.amazonaws.com/prod/1559264/f56
 d034e-1b07-11f0-aff0-0a58a9feac02/2943102/7bed34e2-1f73-11f0-8d97-0affc15f
 8047/file/2024-05-21 FY 2024- West Hillcrest - Agenda.pdf
ATTACH;FILENAME=2024-05-21 FY 2024- West Hillcrest - Meeting Book.pdf;FMTTY
 PE=application/pdf:https://campussuite-storage.s3.amazonaws.com/prod/15592
 64/f56d034e-1b07-11f0-aff0-0a58a9feac02/2943219/4e15de02-1f87-11f0-91b8-0e
 8b839452af/file/2024-05-21 FY 2024- West Hillcrest - Meeting Book.pdf
END:VEVENT
END:VCALENDAR
