BEGIN:VCALENDAR
VERSION:2.0
PRODID:SchoolNow
CALSCALE:GREGORIAN
BEGIN:VEVENT
UID:c5af2e4e-1f89-11f0-a6f3-0a58a9feac02
DTSTAMP:20250422T145503Z
SUMMARY:CDD Board Meeting - April 2024
LOCATION:SpringHill Suites by Marriott Tampa Suncoast Parkway located at 16
 615 Crosspointe Run\, Land 0' Lakes\, FL 34638
URL;VALUE=URI:https://www.westhillcrestcdd.com/calendar/7983524/cdd-board-m
 eeting-april-2024
DTSTART:20240416T144500Z
DTEND:20240416T154500Z
ATTACH;FILENAME=2024-04-16 FY 2024 - West Hillcrest - Meeting Book.pdf;FMTT
 YPE=application/pdf:https://campussuite-storage.s3.amazonaws.com/prod/1559
 264/f56d034e-1b07-11f0-aff0-0a58a9feac02/2943218/4e159488-1f87-11f0-85a9-0
 e8b839452af/file/2024-04-16 FY 2024 - West Hillcrest - Meeting Book.pdf
ATTACH;FILENAME=2024-04-16 FY 2024- West Hillcrest - Agenda.pdf;FMTTYPE=app
 lication/pdf:https://campussuite-storage.s3.amazonaws.com/prod/1559264/f56
 d034e-1b07-11f0-aff0-0a58a9feac02/2943103/7bed362c-1f73-11f0-9df8-0affc15f
 8047/file/2024-04-16 FY 2024- West Hillcrest - Agenda.pdf
END:VEVENT
END:VCALENDAR
